BEGIN:VCALENDAR
VERSION:2.0
PRODID:-//eventon.com NONSGML v1.0//EN
CALSCALE:GREGORIAN
METHOD:PUBLISH
BEGIN:VEVENT
UID:69eca01946d1c
DTSTAMP:20260425T110601Z
DTSTART:20260319T230000Z
DTEND:20260321T230000Z
LOCATION:
SUMMARY:Parroquia San Juan Crisóstomo – Madrid (Chamberí).
DESCRIPTION:Parroquia San Juan Crisóstomo – Madrid (Chamberí).\nhttps:/
 /deretiro.es/events/bartimeo-1-y-2-bachillerato-14/
URL:https://deretiro.es/events/bartimeo-1-y-2-bachillerato-14/
END:VEVENT
END:VCALENDAR