BEGIN:VCALENDAR
VERSION:2.0
PRODID:-//eventon.com NONSGML v1.0//EN
CALSCALE:GREGORIAN
METHOD:PUBLISH
BEGIN:VEVENT
UID:69ea2d1dd5cb6
DTSTAMP:20260423T143053Z
DTSTART:20260423T220000Z
DTEND:20260425T220000Z
LOCATION:
SUMMARY:Parroquia San Eugenio de Argés – Toledo
DESCRIPTION:Parroquia San Eugenio de Argés – Toledo\nhttps://deretiro.es
 /events/effeta-37/
URL:https://deretiro.es/events/effeta-37/
END:VEVENT
END:VCALENDAR