BEGIN:VCALENDAR
VERSION:2.0
PRODID:-//eventon.com NONSGML v1.0//EN
CALSCALE:GREGORIAN
METHOD:PUBLISH
BEGIN:VEVENT
UID:69ec1e6083f47
DTSTAMP:20260425T015232Z
DTSTART:20260910T220000Z
DTEND:20261219T230000Z
LOCATION:
SUMMARY:Diócesis de Coria- Cáceres
DESCRIPTION:Diócesis de Coria- Cáceres\nhttps://deretiro.es/events/effeta
 -70/
URL:https://deretiro.es/events/effeta-70/
END:VEVENT
END:VCALENDAR