BEGIN:VCALENDAR
VERSION:2.0
PRODID:-//eventon.com NONSGML v1.0//EN
CALSCALE:GREGORIAN
METHOD:PUBLISH
BEGIN:VEVENT
UID:69e63687d3b94
DTSTAMP:20260420T142159Z
DTSTART:20251231T230000Z
DTEND:20260629T220000Z
LOCATION:
SUMMARY:Iglesia Santiago El Real – Logroño
DESCRIPTION:Iglesia Santiago El Real – Logroño\nhttps://deretiro.es/even
 ts/emaus-hombres-4/
URL:https://deretiro.es/events/emaus-hombres-4/
END:VEVENT
END:VCALENDAR