BEGIN:VCALENDAR
VERSION:2.0
PRODID:-//eventon.com NONSGML v1.0//EN
CALSCALE:GREGORIAN
METHOD:PUBLISH
BEGIN:VEVENT
UID:69e637336f293
DTSTAMP:20260420T142451Z
DTSTART:20260521T220000Z
DTEND:20260523T220000Z
LOCATION:
SUMMARY:Parroquia Santa María de Caná de Pozuelo – Madrid
DESCRIPTION:Parroquia Santa María de Caná de Pozuelo – Madrid\nhttps://
 deretiro.es/events/emaus-hombres-6/
URL:https://deretiro.es/events/emaus-hombres-6/
END:VEVENT
END:VCALENDAR