BEGIN:VCALENDAR
VERSION:2.0
PRODID:-//eventon.com NONSGML v1.0//EN
CALSCALE:GREGORIAN
METHOD:PUBLISH
BEGIN:VEVENT
UID:69e63648b1b10
DTSTAMP:20260420T142056Z
DTSTART:20260630T220000Z
DTEND:20261230T230000Z
LOCATION:
SUMMARY:Parroquia Santísimo Corpus Christi – Sevilla
DESCRIPTION:Parroquia Santísimo Corpus Christi – Sevilla\nhttps://dereti
 ro.es/events/emaus-hombres-9/
URL:https://deretiro.es/events/emaus-hombres-9/
END:VEVENT
END:VCALENDAR