BEGIN:VCALENDAR
VERSION:2.0
PRODID:-//eventon.com NONSGML v1.0//EN
CALSCALE:GREGORIAN
METHOD:PUBLISH
BEGIN:VEVENT
UID:69e6373365e02
DTSTAMP:20260420T142451Z
DTSTART:20260611T220000Z
DTEND:20260613T220000Z
LOCATION:
SUMMARY:Parroquia Nuestra Señora de Belén – Córdoba
DESCRIPTION:Parroquia Nuestra Señora de Belén – Córdoba\nhttps://deret
 iro.es/events/emaus-hombres-11/
URL:https://deretiro.es/events/emaus-hombres-11/
END:VEVENT
END:VCALENDAR