BEGIN:VCALENDAR
VERSION:2.0
PRODID:-//eventon.com NONSGML v1.0//EN
CALSCALE:GREGORIAN
METHOD:PUBLISH
BEGIN:VEVENT
UID:69e636688f95b
DTSTAMP:20260420T142128Z
DTSTART:20260521T220000Z
DTEND:20260523T220000Z
LOCATION:
SUMMARY:Basilica de Santa Engracia – Zaragoza
DESCRIPTION:Basilica de Santa Engracia – Zaragoza\nhttps://deretiro.es/ev
 ents/emaus-hombres-12/
URL:https://deretiro.es/events/emaus-hombres-12/
END:VEVENT
END:VCALENDAR