BEGIN:VCALENDAR
VERSION:2.0
PRODID:-//eventon.com NONSGML v1.0//EN
CALSCALE:GREGORIAN
METHOD:PUBLISH
BEGIN:VEVENT
UID:69e8106c4c27b
DTSTAMP:20260422T000356Z
DTSTART:20251231T230000Z
DTEND:20260629T220000Z
LOCATION:
SUMMARY:Parroquia San Juan Bautista de Larrea – Vizcaya
DESCRIPTION:Parroquia San Juan Bautista de Larrea – Vizcaya\nhttps://dere
 tiro.es/events/emaus-hombres-13/
URL:https://deretiro.es/events/emaus-hombres-13/
END:VEVENT
END:VCALENDAR