BEGIN:VCALENDAR
VERSION:2.0
PRODID:-//eventon.com NONSGML v1.0//EN
CALSCALE:GREGORIAN
METHOD:PUBLISH
BEGIN:VEVENT
UID:69e6377384033
DTSTAMP:20260420T142555Z
DTSTART:20260514T220000Z
DTEND:20260516T220000Z
LOCATION:
SUMMARY:Parroquia Santo Cristo del Calvario de Marbella – Málaga
DESCRIPTION:Parroquia Santo Cristo del Calvario de Marbella – Málaga\nht
 tps://deretiro.es/events/emaus-hombres-17/
URL:https://deretiro.es/events/emaus-hombres-17/
END:VEVENT
END:VCALENDAR