BEGIN:VCALENDAR
VERSION:2.0
PRODID:-//eventon.com NONSGML v1.0//EN
CALSCALE:GREGORIAN
METHOD:PUBLISH
BEGIN:VEVENT
UID:69e63689d5753
DTSTAMP:20260420T142201Z
DTSTART:20251231T230000Z
DTEND:20260629T220000Z
LOCATION:
SUMMARY:Parroquia Nuestra Señora de los Dolores de Buñol – Valencia
DESCRIPTION:Parroquia Nuestra Señora de los Dolores de Buñol – Valencia
 \nhttps://deretiro.es/events/emaus-hombres-18/
URL:https://deretiro.es/events/emaus-hombres-18/
END:VEVENT
END:VCALENDAR