BEGIN:VCALENDAR
VERSION:2.0
PRODID:-//eventon.com NONSGML v1.0//EN
CALSCALE:GREGORIAN
METHOD:PUBLISH
BEGIN:VEVENT
UID:69e636c59eec0
DTSTAMP:20260420T142301Z
DTSTART:20251231T230000Z
DTEND:20260629T220000Z
LOCATION:
SUMMARY:Parroquia Nuestra Señora de los Dolores de El Raal – Murcia
DESCRIPTION:Parroquia Nuestra Señora de los Dolores de El Raal – Murcia\
 nhttps://deretiro.es/events/emaus-hombres-20/
URL:https://deretiro.es/events/emaus-hombres-20/
END:VEVENT
END:VCALENDAR