BEGIN:VCALENDAR
VERSION:2.0
PRODID:-//eventon.com NONSGML v1.0//EN
CALSCALE:GREGORIAN
METHOD:PUBLISH
BEGIN:VEVENT
UID:69e637832d119
DTSTAMP:20260420T142611Z
DTSTART:20260521T220000Z
DTEND:20260523T220000Z
LOCATION:
SUMMARY:Parroquia San Pascual Baylón – Valencia
DESCRIPTION:Parroquia San Pascual Baylón – Valencia\nhttps://deretiro.es
 /events/emaus-hombres-23/
URL:https://deretiro.es/events/emaus-hombres-23/
END:VEVENT
END:VCALENDAR