BEGIN:VCALENDAR
VERSION:2.0
PRODID:-//eventon.com NONSGML v1.0//EN
CALSCALE:GREGORIAN
METHOD:PUBLISH
BEGIN:VEVENT
UID:69e6373497902
DTSTAMP:20260420T142452Z
DTSTART:20260514T220000Z
DTEND:20260516T220000Z
LOCATION:
SUMMARY:Parroquia San Sebastián de Badalona – Barcelona
DESCRIPTION:Parroquia San Sebastián de Badalona – Barcelona\nhttps://der
 etiro.es/events/emaus-hombres-25/
URL:https://deretiro.es/events/emaus-hombres-25/
END:VEVENT
END:VCALENDAR