BEGIN:VCALENDAR
VERSION:2.0
PRODID:-//eventon.com NONSGML v1.0//EN
CALSCALE:GREGORIAN
METHOD:PUBLISH
BEGIN:VEVENT
UID:69e63730ee687
DTSTAMP:20260420T142448Z
DTSTART:20251231T230000Z
DTEND:20260629T220000Z
LOCATION:
SUMMARY:Parroquia San Francisco de Asís –  La Coruña
DESCRIPTION:Parroquia San Francisco de Asís – La Coruña\nhttps://dereti
 ro.es/events/emaus-hombres-27/
URL:https://deretiro.es/events/emaus-hombres-27/
END:VEVENT
END:VCALENDAR