BEGIN:VCALENDAR
VERSION:2.0
PRODID:-//eventon.com NONSGML v1.0//EN
CALSCALE:GREGORIAN
METHOD:PUBLISH
BEGIN:VEVENT
UID:69e636195e645
DTSTAMP:20260420T142009Z
DTSTART:20260507T220000Z
DTEND:20260509T220000Z
LOCATION:
SUMMARY:Parroquia Nuestra Señora de Gracia – Granada
DESCRIPTION:Parroquia Nuestra Señora de Gracia – Granada\nhttps://dereti
 ro.es/events/emaus-hombres-33/
URL:https://deretiro.es/events/emaus-hombres-33/
END:VEVENT
END:VCALENDAR