BEGIN:VCALENDAR
VERSION:2.0
PRODID:-//eventon.com NONSGML v1.0//EN
CALSCALE:GREGORIAN
METHOD:PUBLISH
BEGIN:VEVENT
UID:69e636c4a8264
DTSTAMP:20260420T142300Z
DTSTART:20260423T220000Z
DTEND:20260425T220000Z
LOCATION:
SUMMARY:Parroquia Santo Cristo Gurutzeaga de Aiete – Guipúzcoa
DESCRIPTION:Parroquia Santo Cristo Gurutzeaga de Aiete – Guipúzcoa\nhttp
 s://deretiro.es/events/emaus-hombres-36/
URL:https://deretiro.es/events/emaus-hombres-36/
END:VEVENT
END:VCALENDAR