BEGIN:VCALENDAR
VERSION:2.0
PRODID:-//eventon.com NONSGML v1.0//EN
CALSCALE:GREGORIAN
METHOD:PUBLISH
BEGIN:VEVENT
UID:69e915222d756
DTSTAMP:20260422T183618Z
DTSTART:20251231T230000Z
DTEND:20260629T220000Z
LOCATION:
SUMMARY:Església San Marçal – Mallorca
DESCRIPTION:Església San Marçal – Mallorca\nhttps://deretiro.es/events/
 emaus-hombres-37/
URL:https://deretiro.es/events/emaus-hombres-37/
END:VEVENT
END:VCALENDAR