BEGIN:VCALENDAR
VERSION:2.0
PRODID:-//eventon.com NONSGML v1.0//EN
CALSCALE:GREGORIAN
METHOD:PUBLISH
BEGIN:VEVENT
UID:69e63688d2db8
DTSTAMP:20260420T142200Z
DTSTART:20260514T220000Z
DTEND:20260516T220000Z
LOCATION:
SUMMARY:Parroquia Buen Pastor – Valencia
DESCRIPTION:Parroquia Buen Pastor – Valencia\nhttps://deretiro.es/events/
 emaus-hombres-41/
URL:https://deretiro.es/events/emaus-hombres-41/
END:VEVENT
END:VCALENDAR