BEGIN:VCALENDAR
VERSION:2.0
PRODID:-//eventon.com NONSGML v1.0//EN
CALSCALE:GREGORIAN
METHOD:PUBLISH
BEGIN:VEVENT
UID:69e635c2b5141
DTSTAMP:20260420T141842Z
DTSTART:20260101
DTEND:20260102
LOCATION:
SUMMARY:Parroquia Sant Pere Apóstol de L'Hospitalet de l'Infant - Tarragona
DESCRIPTION:Parroquia Sant Pere Apóstol de L'Hospitalet de l'Infant - Tarr
 agona\nhttps://deretiro.es/events/emaus-hombres-47/
URL:https://deretiro.es/events/emaus-hombres-47/
END:VEVENT
END:VCALENDAR