BEGIN:VCALENDAR
VERSION:2.0
PRODID:-//eventon.com NONSGML v1.0//EN
CALSCALE:GREGORIAN
METHOD:PUBLISH
BEGIN:VEVENT
UID:69e637730bc33
DTSTAMP:20260420T142555Z
DTSTART:20260430T220000Z
DTEND:20260502T220000Z
LOCATION:
SUMMARY:Parroquia San Juan Bautista de la Salle y Nuestra Señora de la Estrella – Cadiz
DESCRIPTION:Parroquia San Juan Bautista de la Salle y Nuestra Señora de la
  Estrella – Cadiz\nhttps://deretiro.es/events/emaus-hombres-50/
URL:https://deretiro.es/events/emaus-hombres-50/
END:VEVENT
END:VCALENDAR