BEGIN:VCALENDAR
VERSION:2.0
PRODID:-//eventon.com NONSGML v1.0//EN
CALSCALE:GREGORIAN
METHOD:PUBLISH
BEGIN:VEVENT
UID:69e638a2982b4
DTSTAMP:20260420T143058Z
DTSTART:20260618T220000Z
DTEND:20260620T220000Z
LOCATION:
SUMMARY:Parroquia la Asunción de Zumarraga – Guipúzcoa
DESCRIPTION:Parroquia la Asunción de Zumarraga – Guipúzcoa\nhttps://der
 etiro.es/events/emaus-hombres-53/
URL:https://deretiro.es/events/emaus-hombres-53/
END:VEVENT
END:VCALENDAR