BEGIN:VCALENDAR
VERSION:2.0
PRODID:-//eventon.com NONSGML v1.0//EN
CALSCALE:GREGORIAN
METHOD:PUBLISH
BEGIN:VEVENT
UID:69e63603d4518
DTSTAMP:20260420T141947Z
DTSTART:20260604T220000Z
DTEND:20260606T220000Z
LOCATION:
SUMMARY:Parroquia Nuestra Señora del Rosario Valle de Guerra – Tenerife
DESCRIPTION:Parroquia Nuestra Señora del Rosario Valle de Guerra – Tener
 ife\nhttps://deretiro.es/events/emaus-hombres-54/
URL:https://deretiro.es/events/emaus-hombres-54/
END:VEVENT
END:VCALENDAR