BEGIN:VCALENDAR
VERSION:2.0
PRODID:-//eventon.com NONSGML v1.0//EN
CALSCALE:GREGORIAN
METHOD:PUBLISH
BEGIN:VEVENT
UID:69e636195ddfe
DTSTAMP:20260420T142009Z
DTSTART:20260507T220000Z
DTEND:20260509T220000Z
LOCATION:
SUMMARY:Parroquia San Miguel de Miramar – Málaga
DESCRIPTION:Parroquia San Miguel de Miramar – Málaga\nhttps://deretiro.e
 s/events/emaus-hombres-68/
URL:https://deretiro.es/events/emaus-hombres-68/
END:VEVENT
END:VCALENDAR