BEGIN:VCALENDAR
VERSION:2.0
PRODID:-//eventon.com NONSGML v1.0//EN
CALSCALE:GREGORIAN
METHOD:PUBLISH
BEGIN:VEVENT
UID:69e6361b0e2fa
DTSTAMP:20260420T142011Z
DTSTART:20260611T220000Z
DTEND:20260613T220000Z
LOCATION:
SUMMARY:Real Parroquia Santa Maria Magdalena – Sevilla
DESCRIPTION:Real Parroquia Santa Maria Magdalena – Sevilla\nhttps://deret
 iro.es/events/emaus-hombres-70/
URL:https://deretiro.es/events/emaus-hombres-70/
END:VEVENT
END:VCALENDAR