BEGIN:VCALENDAR
VERSION:2.0
PRODID:-//eventon.com NONSGML v1.0//EN
CALSCALE:GREGORIAN
METHOD:PUBLISH
BEGIN:VEVENT
UID:69e637eb1d046
DTSTAMP:20260420T142755Z
DTSTART:20251231T230000Z
DTEND:20260629T220000Z
LOCATION:
SUMMARY:Parroquia San Nicolás de Bari – Las Palmas
DESCRIPTION:Parroquia San Nicolás de Bari – Las Palmas\nhttps://deretiro
 .es/events/emaus-hombres-76/
URL:https://deretiro.es/events/emaus-hombres-76/
END:VEVENT
END:VCALENDAR