BEGIN:VCALENDAR
VERSION:2.0
PRODID:-//eventon.com NONSGML v1.0//EN
CALSCALE:GREGORIAN
METHOD:PUBLISH
BEGIN:VEVENT
UID:69e6366db83a3
DTSTAMP:20260420T142133Z
DTSTART:20260507T220000Z
DTEND:20260509T220000Z
LOCATION:
SUMMARY:Parroquia Nuestra Señora de la Medalla Milagrosa – Cádiz
DESCRIPTION:Parroquia Nuestra Señora de la Medalla Milagrosa – Cádiz\nh
 ttps://deretiro.es/events/emaus-hombres-80/
URL:https://deretiro.es/events/emaus-hombres-80/
END:VEVENT
END:VCALENDAR