BEGIN:VCALENDAR
VERSION:2.0
PRODID:-//eventon.com NONSGML v1.0//EN
CALSCALE:GREGORIAN
METHOD:PUBLISH
BEGIN:VEVENT
UID:69e636691bc37
DTSTAMP:20260420T142129Z
DTSTART:20260507T220000Z
DTEND:20260509T220000Z
LOCATION:
SUMMARY:Parroquia San Fermín – Pamplona
DESCRIPTION:Parroquia San Fermín – Pamplona\nhttps://deretiro.es/events/
 emaus-hombres-93/
URL:https://deretiro.es/events/emaus-hombres-93/
END:VEVENT
END:VCALENDAR