BEGIN:VCALENDAR
VERSION:2.0
PRODID:-//eventon.com NONSGML v1.0//EN
CALSCALE:GREGORIAN
METHOD:PUBLISH
BEGIN:VEVENT
UID:69e635c0b6539
DTSTAMP:20260420T141840Z
DTSTART:20260528T220000Z
DTEND:20260530T220000Z
LOCATION:
SUMMARY:Parroquia Nuestra Señora de la Palma – Algeciras
DESCRIPTION:Parroquia Nuestra Señora de la Palma – Algeciras\nhttps://de
 retiro.es/events/emaus-hombres-96/
URL:https://deretiro.es/events/emaus-hombres-96/
END:VEVENT
END:VCALENDAR