BEGIN:VCALENDAR
VERSION:2.0
PRODID:-//eventon.com NONSGML v1.0//EN
CALSCALE:GREGORIAN
METHOD:PUBLISH
BEGIN:VEVENT
UID:69e6366c6bd29
DTSTAMP:20260420T142132Z
DTSTART:20251231T230000Z
DTEND:20260629T220000Z
LOCATION:
SUMMARY:Parroquia San José de Ontinyent – Valencia
DESCRIPTION:Parroquia San José de Ontinyent – Valencia\nhttps://deretiro
 .es/events/emaus-hombres-97/
URL:https://deretiro.es/events/emaus-hombres-97/
END:VEVENT
END:VCALENDAR