BEGIN:VCALENDAR
VERSION:2.0
PRODID:-//eventon.com NONSGML v1.0//EN
CALSCALE:GREGORIAN
METHOD:PUBLISH
BEGIN:VEVENT
UID:69e55573cbb00
DTSTAMP:20260419T222139Z
DTSTART:20260409T220000Z
DTEND:20260411T220000Z
LOCATION:
SUMMARY:Arciprestazgo Ocaña – Yepes
DESCRIPTION:Arciprestazgo Ocaña – Yepes\nhttps://deretiro.es/events/emau
 s-mujeres-43/
URL:https://deretiro.es/events/emaus-mujeres-43/
END:VEVENT
END:VCALENDAR