BEGIN:VCALENDAR
VERSION:2.0
PRODID:-//eventon.com NONSGML v1.0//EN
CALSCALE:GREGORIAN
METHOD:PUBLISH
BEGIN:VEVENT
UID:69e637232d3bb
DTSTAMP:20260420T142435Z
DTSTART:20260423T220000Z
DTEND:20260425T220000Z
LOCATION:
SUMMARY:Parroquia Virgen del Camino – Pontevedra
DESCRIPTION:Parroquia Virgen del Camino – Pontevedra\nhttps://deretiro.es
 /events/emaus-mujeres-74/
URL:https://deretiro.es/events/emaus-mujeres-74/
END:VEVENT
END:VCALENDAR