BEGIN:VCALENDAR
VERSION:2.0
PRODID:-//eventon.com NONSGML v1.0//EN
CALSCALE:GREGORIAN
METHOD:PUBLISH
BEGIN:VEVENT
UID:69e80b010a571
DTSTAMP:20260421T234049Z
DTSTART:20260505T220000Z
DTEND:20260508T220000Z
LOCATION:
SUMMARY:Diócesis de Canarias
DESCRIPTION:Diócesis de Canarias\nhttps://deretiro.es/events/cursillos-de-
 cristiandad-7/
URL:https://deretiro.es/events/cursillos-de-cristiandad-7/
END:VEVENT
END:VCALENDAR