BEGIN:VCALENDAR
VERSION:2.0
PRODID:-//eventon.com NONSGML v1.0//EN
CALSCALE:GREGORIAN
METHOD:PUBLISH
BEGIN:VEVENT
UID:69e636c6242cc
DTSTAMP:20260420T142302Z
DTSTART:20260623T220000Z
DTEND:20260626T220000Z
LOCATION:
SUMMARY:Diócesis de Jaén
DESCRIPTION:Diócesis de Jaén\nhttps://deretiro.es/events/cursillos-de-cri
 stiandad-16/
URL:https://deretiro.es/events/cursillos-de-cristiandad-16/
END:VEVENT
END:VCALENDAR