BEGIN:VCALENDAR
VERSION:2.0
PRODID:-//eventon.com NONSGML v1.0//EN
CALSCALE:GREGORIAN
METHOD:PUBLISH
BEGIN:VEVENT
UID:69e7df3b84fc6
DTSTAMP:20260421T203403Z
DTSTART:20231103T190000Z
DTEND:20231103T210000Z
LOCATION:
SUMMARY:Parroquia San Cosme y San Damián – Burgos
DESCRIPTION:Parroquia San Cosme y San Damián – Burgos\nhttps://deretiro.
 es/events/edge-adolecentes-1-3-eso-39/
URL:https://deretiro.es/events/edge-adolecentes-1-3-eso-39/
END:VEVENT
END:VCALENDAR