BEGIN:VCALENDAR
VERSION:2.0
PRODID:-//eventon.com NONSGML v1.0//EN
CALSCALE:GREGORIAN
METHOD:PUBLISH
BEGIN:VEVENT
UID:69ebddaf825ee
DTSTAMP:20260424T211631Z
DTSTART:20231103T190000Z
DTEND:20231103T190000Z
LOCATION:
SUMMARY:Parroquia Asunción de nuestra Señora Tomelloso
DESCRIPTION:Parroquia Asunción de nuestra Señora Tomelloso\nhttps://deret
 iro.es/events/edge-adolecentes-1-3-eso-61/
URL:https://deretiro.es/events/edge-adolecentes-1-3-eso-61/
END:VEVENT
END:VCALENDAR