BEGIN:VCALENDAR
VERSION:2.0
PRODID:-//eventon.com NONSGML v1.0//EN
CALSCALE:GREGORIAN
METHOD:PUBLISH
BEGIN:VEVENT
UID:69eca39f71be2
DTSTAMP:20260425T112103Z
DTSTART:20240929T220000Z
DTEND:20241215T230000Z
LOCATION:
SUMMARY:Estudio Hakuna
DESCRIPTION:Estudio Hakuna\nhttps://deretiro.es/events/hakuna-master-premat
 rimonial/
URL:https://deretiro.es/events/hakuna-master-prematrimonial/
END:VEVENT
END:VCALENDAR