BEGIN:VCALENDAR
VERSION:2.0
PRODID:-//eventon.com NONSGML v1.0//EN
CALSCALE:GREGORIAN
METHOD:PUBLISH
BEGIN:VEVENT
UID:69e6c98788359
DTSTAMP:20260421T004911Z
DTSTART:20231102T183000Z
DTEND:20231102T183000Z
LOCATION:
SUMMARY:Parroquia Santo Tomás de Villanueva – Castellón
DESCRIPTION:Parroquia Santo Tomás de Villanueva – Castellón\nhttps://de
 retiro.es/events/alabanzas-21/
URL:https://deretiro.es/events/alabanzas-21/
END:VEVENT
END:VCALENDAR