BEGIN:VCALENDAR
VERSION:2.0
PRODID:-//eventon.com NONSGML v1.0//EN
CALSCALE:GREGORIAN
METHOD:PUBLISH
BEGIN:VEVENT
UID:69e7d823e12be
DTSTAMP:20260421T200347Z
DTSTART:20231102T170000Z
DTEND:20231102T170000Z
LOCATION:
SUMMARY:Parroquia Santiago Apóstol – Huesca
DESCRIPTION:Parroquia Santiago Apóstol – Huesca\nhttps://deretiro.es/eve
 nts/alabanzas-47/
URL:https://deretiro.es/events/alabanzas-47/
END:VEVENT
END:VCALENDAR