BEGIN:VCALENDAR
VERSION:2.0
PRODID:-//eventon.com NONSGML v1.0//EN
CALSCALE:GREGORIAN
METHOD:PUBLISH
BEGIN:VEVENT
UID:69e75b1e3dc9f
DTSTAMP:20260421T111022Z
DTSTART:20231102T230000Z
DTEND:20231102T230000Z
LOCATION:
SUMMARY:Parroquia Santa Eulalia de Boiro – La Coruña
DESCRIPTION:Parroquia Santa Eulalia de Boiro – La Coruña\nhttps://dereti
 ro.es/events/alabanzas-69/
URL:https://deretiro.es/events/alabanzas-69/
END:VEVENT
END:VCALENDAR