BEGIN:VCALENDAR
VERSION:2.0
PRODID:-//eventon.com NONSGML v1.0//EN
CALSCALE:GREGORIAN
METHOD:PUBLISH
BEGIN:VEVENT
UID:69e5fdcb16d67
DTSTAMP:20260420T101955Z
DTSTART:20231106T160000Z
DTEND:20231106T160000Z
LOCATION:
SUMMARY:Colegio Misioneras Teresianas – Salamanca
DESCRIPTION:Colegio Misioneras Teresianas – Salamanca\nhttps://deretiro.e
 s/events/alabanzas-83/
URL:https://deretiro.es/events/alabanzas-83/
END:VEVENT
END:VCALENDAR