BEGIN:VCALENDAR
VERSION:2.0
PRODID:-//eventon.com NONSGML v1.0//EN
CALSCALE:GREGORIAN
METHOD:PUBLISH
BEGIN:VEVENT
UID:69e9a19458350
DTSTAMP:20260423T043532Z
DTSTART:20231101T180000Z
DTEND:20231101T180000Z
LOCATION:
SUMMARY:Parroquia Santiago A Nova – Lugo
DESCRIPTION:Parroquia Santiago A Nova – Lugo\nhttps://deretiro.es/events/
 alabanzas-85/
URL:https://deretiro.es/events/alabanzas-85/
END:VEVENT
END:VCALENDAR