BEGIN:VCALENDAR
VERSION:2.0
PRODID:-//eventon.com NONSGML v1.0//EN
CALSCALE:GREGORIAN
METHOD:PUBLISH
BEGIN:VEVENT
UID:69ecce7e45989
DTSTAMP:20260425T142358Z
DTSTART:20231103T173000Z
DTEND:20231103T173000Z
LOCATION:
SUMMARY:Colegio Padres Somascos de A Guarda – Pontevedra
DESCRIPTION:Colegio Padres Somascos de A Guarda – Pontevedra\nhttps://der
 etiro.es/events/alabanzas-139/
URL:https://deretiro.es/events/alabanzas-139/
END:VEVENT
END:VCALENDAR