BEGIN:VCALENDAR
VERSION:2.0
PRODID:-//eventon.com NONSGML v1.0//EN
CALSCALE:GREGORIAN
METHOD:PUBLISH
BEGIN:VEVENT
UID:69e6fe03acc3c
DTSTAMP:20260421T043307Z
DTSTART:20231102T161500Z
DTEND:20231102T161500Z
LOCATION:
SUMMARY:Parròquia Sant Narcís – Barcelona
DESCRIPTION:Parròquia Sant Narcís – Barcelona\nhttps://deretiro.es/even
 ts/alabanzas-143/
URL:https://deretiro.es/events/alabanzas-143/
END:VEVENT
END:VCALENDAR