BEGIN:VCALENDAR
VERSION:2.0
PRODID:-//eventon.com NONSGML v1.0//EN
CALSCALE:GREGORIAN
METHOD:PUBLISH
BEGIN:VEVENT
UID:69eb563225709
DTSTAMP:20260424T113826Z
DTSTART:20231105T160000Z
DTEND:20231105T160000Z
LOCATION:
SUMMARY:Parroquia Nuestra Señora de la Consolación de Móstoles – Madrid
DESCRIPTION:Parroquia Nuestra Señora de la Consolación de Móstoles – M
 adrid\nhttps://deretiro.es/events/alabanzas-152/
URL:https://deretiro.es/events/alabanzas-152/
END:VEVENT
END:VCALENDAR