BEGIN:VCALENDAR
VERSION:2.0
PRODID:-//eventon.com NONSGML v1.0//EN
CALSCALE:GREGORIAN
METHOD:PUBLISH
BEGIN:VEVENT
UID:69e6273f6d4ec
DTSTAMP:20260420T131647Z
DTSTART:20231102T200000Z
DTEND:20231102T210000Z
LOCATION:
SUMMARY:Monasterio de San José\,  Jesús y María – Madrid
DESCRIPTION:Monasterio de San José\,  Jesús y María – Madrid\nhttps://
 deretiro.es/events/horas-santas-hakuna-45/
URL:https://deretiro.es/events/horas-santas-hakuna-45/
END:VEVENT
END:VCALENDAR