BEGIN:VCALENDAR
VERSION:2.0
PRODID:-//eventon.com NONSGML v1.0//EN
CALSCALE:GREGORIAN
METHOD:PUBLISH
BEGIN:VEVENT
UID:69eb11cdde8d7
DTSTAMP:20260424T064637Z
DTSTART:20231101T163000Z
DTEND:20231101T163000Z
LOCATION:
SUMMARY:Parroquia San Agustín – Madrid
DESCRIPTION:Parroquia San Agustín – Madrid\nhttps://deretiro.es/events/o
 racion-de-madres-8/
URL:https://deretiro.es/events/oracion-de-madres-8/
END:VEVENT
END:VCALENDAR