BEGIN:VCALENDAR
VERSION:2.0
PRODID:-//eventon.com NONSGML v1.0//EN
CALSCALE:GREGORIAN
METHOD:PUBLISH
BEGIN:VEVENT
UID:69e7afe199bd4
DTSTAMP:20260421T171201Z
DTSTART:20231107T200000Z
DTEND:20231107T200000Z
LOCATION:
SUMMARY:Parroquia Asunción de Nuestra Señora de Parla – Madrid
DESCRIPTION:Parroquia Asunción de Nuestra Señora de Parla – Madrid\nhtt
 ps://deretiro.es/events/comunion-y-liberacion-23/
URL:https://deretiro.es/events/comunion-y-liberacion-23/
END:VEVENT
END:VCALENDAR