BEGIN:VCALENDAR
VERSION:2.0
PRODID:-//eventon.com NONSGML v1.0//EN
CALSCALE:GREGORIAN
METHOD:PUBLISH
BEGIN:VEVENT
UID:69ea0fdcf09b8
DTSTAMP:20260423T122604Z
DTSTART:20231105T110000Z
DTEND:20231105T110000Z
LOCATION:
SUMMARY:Parroquia San Andrés Apóstol – Jaén
DESCRIPTION:Parroquia San Andrés Apóstol – Jaén\nhttps://deretiro.es/e
 vents/comunion-y-liberacion-38/
URL:https://deretiro.es/events/comunion-y-liberacion-38/
END:VEVENT
END:VCALENDAR