BEGIN:VCALENDAR
VERSION:2.0
PRODID:-//eventon.com NONSGML v1.0//EN
CALSCALE:GREGORIAN
METHOD:PUBLISH
BEGIN:VEVENT
UID:69e759b163460
DTSTAMP:20260421T110417Z
DTSTART:20231101T194500Z
DTEND:20231101T194500Z
LOCATION:
SUMMARY:Parroquia del Espíritu Santo
DESCRIPTION:Parroquia del Espíritu Santo\nhttps://deretiro.es/events/comun
 ion-y-liberacion-57/
URL:https://deretiro.es/events/comunion-y-liberacion-57/
END:VEVENT
END:VCALENDAR